BEGIN:VCALENDAR
VERSION:2.0
PRODID:-//I-24 Campground - ECPv6.15.18//NONSGML v1.0//EN
CALSCALE:GREGORIAN
METHOD:PUBLISH
X-ORIGINAL-URL:https://nashvillei24kampground.com
X-WR-CALDESC:Events for I-24 Campground
REFRESH-INTERVAL;VALUE=DURATION:PT1H
X-Robots-Tag:noindex
X-PUBLISHED-TTL:PT1H
BEGIN:VTIMEZONE
TZID:UTC
BEGIN:STANDARD
TZOFFSETFROM:+0000
TZOFFSETTO:+0000
TZNAME:UTC
DTSTART:20170101T000000
END:STANDARD
END:VTIMEZONE
BEGIN:VTIMEZONE
TZID:America/Chicago
BEGIN:DAYLIGHT
TZOFFSETFROM:-0600
TZOFFSETTO:-0500
TZNAME:CDT
DTSTART:20180311T080000
END:DAYLIGHT
BEGIN:STANDARD
TZOFFSETFROM:-0500
TZOFFSETTO:-0600
TZNAME:CST
DTSTART:20181104T070000
END:STANDARD
BEGIN:DAYLIGHT
TZOFFSETFROM:-0600
TZOFFSETTO:-0500
TZNAME:CDT
DTSTART:20190310T080000
END:DAYLIGHT
BEGIN:STANDARD
TZOFFSETFROM:-0500
TZOFFSETTO:-0600
TZNAME:CST
DTSTART:20191103T070000
END:STANDARD
BEGIN:DAYLIGHT
TZOFFSETFROM:-0600
TZOFFSETTO:-0500
TZNAME:CDT
DTSTART:20200308T080000
END:DAYLIGHT
BEGIN:STANDARD
TZOFFSETFROM:-0500
TZOFFSETTO:-0600
TZNAME:CST
DTSTART:20201101T070000
END:STANDARD
BEGIN:DAYLIGHT
TZOFFSETFROM:-0600
TZOFFSETTO:-0500
TZNAME:CDT
DTSTART:20210314T080000
END:DAYLIGHT
BEGIN:STANDARD
TZOFFSETFROM:-0500
TZOFFSETTO:-0600
TZNAME:CST
DTSTART:20211107T070000
END:STANDARD
END:VTIMEZONE
BEGIN:VEVENT
DTSTART;TZID=UTC:20221224T000000
DTEND;TZID=UTC:20230101T235900
DTSTAMP:20260421T084327
CREATED:20221222T160349Z
LAST-MODIFIED:20221222T160349Z
UID:4055-1671840000-1672617540@nashvillei24kampground.com
SUMMARY:Holiday Hours
DESCRIPTION:
URL:https://nashvillei24kampground.com/index.php/event/holiday-hours/
ATTACH;FMTTYPE=image/jpeg:https://nashvillei24kampground.com/wp-content/uploads/2022/12/holiday-hours.jpg
END:VEVENT
BEGIN:VEVENT
DTSTART;VALUE=DATE:20221124
DTEND;VALUE=DATE:20221126
DTSTAMP:20260421T084327
CREATED:20211124T170600Z
LAST-MODIFIED:20221123T161210Z
UID:3786-1669248000-1669420799@nashvillei24kampground.com
SUMMARY:Happy Thanksgiving
DESCRIPTION:
URL:https://nashvillei24kampground.com/index.php/event/3786/
CATEGORIES:Announcement
ATTACH;FMTTYPE=image/jpeg:https://nashvillei24kampground.com/wp-content/uploads/2021/11/tgiving-scaled.jpeg
END:VEVENT
BEGIN:VEVENT
DTSTART;TZID=UTC:20211010T180000
DTEND;TZID=UTC:20211010T210000
DTSTAMP:20260421T084327
CREATED:20211008T153245Z
LAST-MODIFIED:20211008T153245Z
UID:3421-1633888800-1633899600@nashvillei24kampground.com
SUMMARY:Gary West & Friends Country Jam
DESCRIPTION:
URL:https://nashvillei24kampground.com/index.php/event/gary-west-friends-country-jam/
LOCATION:Nashville I-24 Campground Pavilion\, Located at 1130 Rocky Fork Road\, Smyrna\, TN\, United States
ATTACH;FMTTYPE=image/jpeg:https://nashvillei24kampground.com/wp-content/uploads/2021/10/BA53A8AA_A8D5_4523_B90D_7CD15D41F4B1-scaled.jpeg
END:VEVENT
BEGIN:VEVENT
DTSTART;TZID=UTC:20210709T183000
DTEND;TZID=UTC:20210709T210000
DTSTAMP:20260421T084327
CREATED:20210708T212453Z
LAST-MODIFIED:20210708T212453Z
UID:2649-1625855400-1625864400@nashvillei24kampground.com
SUMMARY:Relik This Friday Night
DESCRIPTION:
URL:https://nashvillei24kampground.com/index.php/event/relik-this-friday-night-2/
LOCATION:Nashville I-24 Campground Pavilion\, Located at 1130 Rocky Fork Road\, Smyrna\, TN\, United States
CATEGORIES:Music
ATTACH;FMTTYPE=image/jpeg:https://nashvillei24kampground.com/wp-content/uploads/2021/07/Friday-Event-Relik0709.jpg
END:VEVENT
BEGIN:VEVENT
DTSTART;TZID=UTC:20210618T183000
DTEND;TZID=UTC:20210618T210000
DTSTAMP:20260421T084327
CREATED:20210617T214840Z
LAST-MODIFIED:20210617T214840Z
UID:2521-1624041000-1624050000@nashvillei24kampground.com
SUMMARY:Relik This Friday Night
DESCRIPTION:
URL:https://nashvillei24kampground.com/index.php/event/relik-this-friday-night/
LOCATION:Nashville I-24 Campground Pavilion\, Located at 1130 Rocky Fork Road\, Smyrna\, TN\, United States
CATEGORIES:Music
ATTACH;FMTTYPE=image/jpeg:https://nashvillei24kampground.com/wp-content/uploads/2021/06/Friday-Event-Relik.jpg
END:VEVENT
BEGIN:VEVENT
DTSTART;TZID=UTC:20210507T180000
DTEND;TZID=UTC:20210507T200000
DTSTAMP:20260421T084327
CREATED:20210504T215218Z
LAST-MODIFIED:20210504T215218Z
UID:2243-1620410400-1620417600@nashvillei24kampground.com
SUMMARY:Rockout Your Evening With Relik
DESCRIPTION:
URL:https://nashvillei24kampground.com/index.php/event/rockout-your-evening-with-relik-2/
LOCATION:Nashville I-24 Campground Pavilion\, Located at 1130 Rocky Fork Road\, Smyrna\, TN\, United States
CATEGORIES:Music
ATTACH;FMTTYPE=image/jpeg:https://nashvillei24kampground.com/wp-content/uploads/2021/05/Relik-Event-Flyer-Friday-scaled.jpg
END:VEVENT
BEGIN:VEVENT
DTSTART;TZID=UTC:20210416T180000
DTEND;TZID=UTC:20210416T200000
DTSTAMP:20260421T084327
CREATED:20210414T141003Z
LAST-MODIFIED:20210414T143038Z
UID:2120-1618596000-1618603200@nashvillei24kampground.com
SUMMARY:Rockout Your Evening With Relik
DESCRIPTION:
URL:https://nashvillei24kampground.com/index.php/event/rockout-your-evening-with-relik/
LOCATION:Nashville I-24 Campground Pavilion\, Located at 1130 Rocky Fork Road\, Smyrna\, TN\, United States
CATEGORIES:Music
ATTACH;FMTTYPE=image/jpeg:https://nashvillei24kampground.com/wp-content/uploads/2021/04/188824E2_5860_420E_9D3F_B87C55D1F180-scaled.jpeg
END:VEVENT
BEGIN:VEVENT
DTSTART;TZID=UTC:20201224T090000
DTEND;TZID=UTC:20210101T170000
DTSTAMP:20260421T084327
CREATED:20201224T082122Z
LAST-MODIFIED:20201224T082122Z
UID:1628-1608800400-1609520400@nashvillei24kampground.com
SUMMARY:
DESCRIPTION:Holiday Hours\nChristmas Eve – 12/24\n9am – 2pm \nChristmas Day – 12/25\nClosed all day \nNew Year’s Eve\n9am – 5pm \nNew Year’s Day\n11am – 5pm
URL:https://nashvillei24kampground.com/index.php/event/1628/
CATEGORIES:Announcement
ATTACH;FMTTYPE=image/jpeg:https://nashvillei24kampground.com/wp-content/uploads/2020/12/B874BE17_1D58_4D61_A9CB_265E052AD9DF.jpg
END:VEVENT
BEGIN:VEVENT
DTSTART;TZID=America/Chicago:20200101T110000
DTEND;TZID=America/Chicago:20200101T170000
DTSTAMP:20260421T084327
CREATED:20191224T164621Z
LAST-MODIFIED:20191224T164621Z
UID:1035-1577876400-1577898000@nashvillei24kampground.com
SUMMARY:New Years Day Hours
DESCRIPTION:
URL:https://nashvillei24kampground.com/index.php/event/new-years-day-hours-2/
CATEGORIES:Announcement
END:VEVENT
BEGIN:VEVENT
DTSTART;TZID=America/Chicago:20191231T090000
DTEND;TZID=America/Chicago:20191231T170000
DTSTAMP:20260421T084327
CREATED:20191224T164452Z
LAST-MODIFIED:20191224T164452Z
UID:1033-1577782800-1577811600@nashvillei24kampground.com
SUMMARY:New Years Eve Hours
DESCRIPTION:
URL:https://nashvillei24kampground.com/index.php/event/new-years-eve-hours-2/
CATEGORIES:Announcement
END:VEVENT
BEGIN:VEVENT
DTSTART;VALUE=DATE:20191225
DTEND;VALUE=DATE:20191226
DTSTAMP:20260421T084327
CREATED:20191224T164301Z
LAST-MODIFIED:20191224T164301Z
UID:1031-1577232000-1577318399@nashvillei24kampground.com
SUMMARY:Christmas Day - Closed All Day
DESCRIPTION:
URL:https://nashvillei24kampground.com/index.php/event/christmas-day-closed-all-day/
CATEGORIES:Announcement
END:VEVENT
BEGIN:VEVENT
DTSTART;TZID=America/Chicago:20191224T090000
DTEND;TZID=America/Chicago:20191224T160000
DTSTAMP:20260421T084327
CREATED:20191224T164111Z
LAST-MODIFIED:20191224T164111Z
UID:1029-1577178000-1577203200@nashvillei24kampground.com
SUMMARY:Christmas Eve Hours
DESCRIPTION:
URL:https://nashvillei24kampground.com/index.php/event/christmas-eve-hours-2/
CATEGORIES:Announcement
END:VEVENT
BEGIN:VEVENT
DTSTART;TZID=UTC:20191216T173000
DTEND;TZID=UTC:20191216T203000
DTSTAMP:20260421T084327
CREATED:20191213T024334Z
LAST-MODIFIED:20191213T024334Z
UID:1026-1576517400-1576528200@nashvillei24kampground.com
SUMMARY:Christmas Dinner for Out Guest
DESCRIPTION:‘Breaking Bread’ of Smyrna will cater dinner consisting of Chicken & Dressing\, Green Beans\, Rolls\, and Desserts.
URL:https://nashvillei24kampground.com/index.php/event/christmas-dinner-for-out-guest/
LOCATION:Nashville I-24 Campground Pavilion\, Located at 1130 Rocky Fork Road\, Smyrna\, TN\, United States
CATEGORIES:Food
END:VEVENT
BEGIN:VEVENT
DTSTART;TZID=UTC:20191018T183000
DTEND;TZID=UTC:20191018T203000
DTSTAMP:20260421T084327
CREATED:20191018T150954Z
LAST-MODIFIED:20191018T150954Z
UID:1017-1571423400-1571430600@nashvillei24kampground.com
SUMMARY:Music Featuring Double Down
DESCRIPTION:
URL:https://nashvillei24kampground.com/index.php/event/music-featuring-double-down/
LOCATION:Nashville I-24 Campground Pavilion\, Located at 1130 Rocky Fork Road\, Smyrna\, TN\, United States
CATEGORIES:Music
END:VEVENT
BEGIN:VEVENT
DTSTART;TZID=UTC:20190820T190000
DTEND;TZID=UTC:20190820T200000
DTSTAMP:20260421T084327
CREATED:20190816T152544Z
LAST-MODIFIED:20190816T152544Z
UID:1013-1566327600-1566331200@nashvillei24kampground.com
SUMMARY:Music Featuring Johnny Minick & The Stewart Brothers
DESCRIPTION:
URL:https://nashvillei24kampground.com/index.php/event/music-featuring-johnny-minick-the-stewart-brothers/
LOCATION:Nashville I-24 Campground Pavilion\, Located at 1130 Rocky Fork Road\, Smyrna\, TN\, United States
CATEGORIES:Music
END:VEVENT
BEGIN:VEVENT
DTSTART;TZID=UTC:20190816T183000
DTEND;TZID=UTC:20190816T203000
DTSTAMP:20260421T084327
CREATED:20190816T152406Z
LAST-MODIFIED:20190816T152406Z
UID:1011-1565980200-1565987400@nashvillei24kampground.com
SUMMARY:Music Featuring Memory Lane
DESCRIPTION:
URL:https://nashvillei24kampground.com/index.php/event/music-featuring-memory-lane-4/
LOCATION:Nashville I-24 Campground Pavilion\, Located at 1130 Rocky Fork Road\, Smyrna\, TN\, United States
CATEGORIES:Music
END:VEVENT
BEGIN:VEVENT
DTSTART;TZID=UTC:20190802T183000
DTEND;TZID=UTC:20190802T203000
DTSTAMP:20260421T084327
CREATED:20190802T195653Z
LAST-MODIFIED:20190802T195653Z
UID:1006-1564770600-1564777800@nashvillei24kampground.com
SUMMARY:Music Featuring Richard Bruce Eells
DESCRIPTION:
URL:https://nashvillei24kampground.com/index.php/event/music-featuring-richard-bruce-eells-2/
LOCATION:Nashville I-24 Campground Pavilion\, Located at 1130 Rocky Fork Road\, Smyrna\, TN\, United States
CATEGORIES:Music
END:VEVENT
BEGIN:VEVENT
DTSTART;TZID=UTC:20190726T183000
DTEND;TZID=UTC:20190726T203000
DTSTAMP:20260421T084327
CREATED:20190725T210714Z
LAST-MODIFIED:20190725T210714Z
UID:1003-1564165800-1564173000@nashvillei24kampground.com
SUMMARY:Music Featuring Memory Lane
DESCRIPTION:
URL:https://nashvillei24kampground.com/index.php/event/music-featuring-memory-lane-3/
LOCATION:Nashville I-24 Campground Pavilion\, Located at 1130 Rocky Fork Road\, Smyrna\, TN\, United States
CATEGORIES:Music
END:VEVENT
BEGIN:VEVENT
DTSTART;TZID=UTC:20190714T183000
DTEND;TZID=UTC:20190714T203000
DTSTAMP:20260421T084327
CREATED:20190712T215000Z
LAST-MODIFIED:20190713T023759Z
UID:1000-1563129000-1563136200@nashvillei24kampground.com
SUMMARY:Music Featuring Gary West
DESCRIPTION:
URL:https://nashvillei24kampground.com/index.php/event/music-featuring-gary-west/
LOCATION:Nashville I-24 Campground Pavilion\, Located at 1130 Rocky Fork Road\, Smyrna\, TN\, United States
CATEGORIES:Music
END:VEVENT
BEGIN:VEVENT
DTSTART;TZID=UTC:20190709T180000
DTEND;TZID=UTC:20190709T193000
DTSTAMP:20260421T084327
CREATED:20190708T221547Z
LAST-MODIFIED:20190708T221547Z
UID:998-1562695200-1562700600@nashvillei24kampground.com
SUMMARY:Music Featuring Red Head Express (Final Show!)
DESCRIPTION:
URL:https://nashvillei24kampground.com/index.php/event/music-featuring-red-head-express-final-show/
CATEGORIES:Music
END:VEVENT
BEGIN:VEVENT
DTSTART;TZID=UTC:20190703T173000
DTEND;TZID=UTC:20190703T203000
DTSTAMP:20260421T084327
CREATED:20190626T174956Z
LAST-MODIFIED:20190626T174956Z
UID:993-1562175000-1562185800@nashvillei24kampground.com
SUMMARY:Nashville I-24 Campground Annual 4th of July Potluck
DESCRIPTION:Everyone is invited! Come join us! \nPlace: Pavilion\nLocation: July 3rd \nPotluck begins at 5:30pm\nCampground provides Hot Dogs and Hamburgers\nBring a dish if you wish\nEntertainment by Ronnie Moore with “Almost Strangers” at 5:30pm
URL:https://nashvillei24kampground.com/index.php/event/nashville-i-24-campground-annual-4th-of-july-potluck-2/
LOCATION:Nashville I-24 Campground Pavilion\, Located at 1130 Rocky Fork Road\, Smyrna\, TN\, United States
CATEGORIES:Food,Music
END:VEVENT
BEGIN:VEVENT
DTSTART;TZID=UTC:20190628T180000
DTEND;TZID=UTC:20190628T200000
DTSTAMP:20260421T084327
CREATED:20190626T181208Z
LAST-MODIFIED:20190626T181208Z
UID:995-1561744800-1561752000@nashvillei24kampground.com
SUMMARY:Music Featuring Richard Bruce Eells
DESCRIPTION:This Friday evening from 6–8pm in our pavilion\, Richard will be sharing the music of his favorite artists\, as well as a few songs of his own. Come join us and bring a friend! \nOriginally from Philadelphia\, Richard comes to us via California and Florida. He’s in Nashville to share his own songs of uniquely Americana music\, but he still loves to play the music that influenced his early career. Artists like The Beatles\, the Allman Brothers Band\, Johnny Cash\, Eric Clapton\, the Eagles\, Elvis Presley\, and Neil Young\, just to name a few.
URL:https://nashvillei24kampground.com/index.php/event/music-featuring-richard-bruce-eells/
LOCATION:Nashville I-24 Campground Pavilion\, Located at 1130 Rocky Fork Road\, Smyrna\, TN\, United States
CATEGORIES:Music
END:VEVENT
BEGIN:VEVENT
DTSTART;TZID=UTC:20190101T110000
DTEND;TZID=UTC:20190101T170000
DTSTAMP:20260421T084327
CREATED:20181213T171222Z
LAST-MODIFIED:20181213T171222Z
UID:979-1546340400-1546362000@nashvillei24kampground.com
SUMMARY:New Years Day Hours
DESCRIPTION:
URL:https://nashvillei24kampground.com/index.php/event/new-years-day-hours/
CATEGORIES:Announcement
ATTACH;FMTTYPE=image/jpeg:https://nashvillei24kampground.com/wp-content/uploads/2018/12/photo_copy-e1544720276611.jpeg
END:VEVENT
BEGIN:VEVENT
DTSTART;TZID=UTC:20181231T090000
DTEND;TZID=UTC:20181231T150000
DTSTAMP:20260421T084327
CREATED:20181213T171125Z
LAST-MODIFIED:20181213T171125Z
UID:976-1546246800-1546268400@nashvillei24kampground.com
SUMMARY:New Years Eve Hours
DESCRIPTION:
URL:https://nashvillei24kampground.com/index.php/event/new-years-eve-hours/
CATEGORIES:Announcement
ATTACH;FMTTYPE=image/jpeg:https://nashvillei24kampground.com/wp-content/uploads/2018/12/photo_copy-e1544720276611.jpeg
END:VEVENT
BEGIN:VEVENT
DTSTART;VALUE=DATE:20181225
DTEND;VALUE=DATE:20181226
DTSTAMP:20260421T084327
CREATED:20181213T171001Z
LAST-MODIFIED:20181213T171018Z
UID:974-1545696000-1545782399@nashvillei24kampground.com
SUMMARY:Christmas Day (Closed)
DESCRIPTION:
URL:https://nashvillei24kampground.com/index.php/event/christmas-day-closed/
CATEGORIES:Announcement
ATTACH;FMTTYPE=image/jpeg:https://nashvillei24kampground.com/wp-content/uploads/2018/12/photo_copy-e1544720276611.jpeg
END:VEVENT
BEGIN:VEVENT
DTSTART;TZID=UTC:20181224T090000
DTEND;TZID=UTC:20181224T150000
DTSTAMP:20260421T084327
CREATED:20181213T170457Z
LAST-MODIFIED:20181213T170817Z
UID:972-1545642000-1545663600@nashvillei24kampground.com
SUMMARY:Christmas Eve Hours
DESCRIPTION:
URL:https://nashvillei24kampground.com/index.php/event/christmas-eve-hours/
CATEGORIES:Announcement
ATTACH;FMTTYPE=image/jpeg:https://nashvillei24kampground.com/wp-content/uploads/2018/12/photo_copy-e1544720276611.jpeg
END:VEVENT
BEGIN:VEVENT
DTSTART;TZID=UTC:20181216T173000
DTEND;TZID=UTC:20181216T203000
DTSTAMP:20260421T084327
CREATED:20181213T170135Z
LAST-MODIFIED:20181213T170135Z
UID:968-1544981400-1544992200@nashvillei24kampground.com
SUMMARY:Christmas Dinner for Our Guests
DESCRIPTION:‘Breaking Bread’ of Smyrna will cater dinner consisting of Chicken & Dressing\, Green Beans\, Rolls\, and Desserts \nThere will be live music by ‘Shar and The Classics’
URL:https://nashvillei24kampground.com/index.php/event/christmas-dinner-for-our-guests/
LOCATION:Nashville I-24 Campground Pavilion\, Located at 1130 Rocky Fork Road\, Smyrna\, TN\, United States
CATEGORIES:Announcement,Food,Music
ATTACH;FMTTYPE=image/jpeg:https://nashvillei24kampground.com/wp-content/uploads/2018/12/photo-e1544720259817.jpeg
END:VEVENT
BEGIN:VEVENT
DTSTART;TZID=UTC:20181122T170000
DTEND;TZID=UTC:20181122T200000
DTSTAMP:20260421T084327
CREATED:20181121T205315Z
LAST-MODIFIED:20181121T205315Z
UID:965-1542906000-1542916800@nashvillei24kampground.com
SUMMARY:THANKSGIVING POT LUCK DINNER
DESCRIPTION:Music featuring\nMatt’s Family Jam
URL:https://nashvillei24kampground.com/index.php/event/thanksgiving-pot-luck-dinner/
LOCATION:Nashville I-24 Campground Pavilion\, Located at 1130 Rocky Fork Road\, Smyrna\, TN\, United States
CATEGORIES:Announcement,Food,Music
END:VEVENT
BEGIN:VEVENT
DTSTART;TZID=UTC:20181122T090000
DTEND;TZID=UTC:20181122T170000
DTSTAMP:20260421T084327
CREATED:20181121T205139Z
LAST-MODIFIED:20181121T205139Z
UID:963-1542877200-1542906000@nashvillei24kampground.com
SUMMARY:Thanksgiving Day Office Hours
DESCRIPTION:
URL:https://nashvillei24kampground.com/index.php/event/thanksgiving-day-office-hours/
CATEGORIES:Announcement
END:VEVENT
BEGIN:VEVENT
DTSTART;TZID=UTC:20181012T183000
DTEND;TZID=UTC:20181012T203000
DTSTAMP:20260421T084327
CREATED:20181008T191723Z
LAST-MODIFIED:20181008T191723Z
UID:960-1539369000-1539376200@nashvillei24kampground.com
SUMMARY:Music Featuring Memory Lane
DESCRIPTION:
URL:https://nashvillei24kampground.com/index.php/event/music-featuring-memory-lane-2/
LOCATION:Nashville I-24 Campground Pavilion\, Located at 1130 Rocky Fork Road\, Smyrna\, TN\, United States
END:VEVENT
END:VCALENDAR